BEGIN:VCALENDAR
VERSION:2.0
PRODID:-//Lewiston Township - ECPv6.15.17.1//NONSGML v1.0//EN
CALSCALE:GREGORIAN
METHOD:PUBLISH
X-ORIGINAL-URL:https://lewistontownshipwi.org
X-WR-CALDESC:Events for Lewiston Township
REFRESH-INTERVAL;VALUE=DURATION:PT1H
X-Robots-Tag:noindex
X-PUBLISHED-TTL:PT1H
BEGIN:VTIMEZONE
TZID:America/Chicago
BEGIN:DAYLIGHT
TZOFFSETFROM:-0600
TZOFFSETTO:-0500
TZNAME:CDT
DTSTART:20220313T080000
END:DAYLIGHT
BEGIN:STANDARD
TZOFFSETFROM:-0500
TZOFFSETTO:-0600
TZNAME:CST
DTSTART:20221106T070000
END:STANDARD
BEGIN:DAYLIGHT
TZOFFSETFROM:-0600
TZOFFSETTO:-0500
TZNAME:CDT
DTSTART:20230312T080000
END:DAYLIGHT
BEGIN:STANDARD
TZOFFSETFROM:-0500
TZOFFSETTO:-0600
TZNAME:CST
DTSTART:20231105T070000
END:STANDARD
BEGIN:DAYLIGHT
TZOFFSETFROM:-0600
TZOFFSETTO:-0500
TZNAME:CDT
DTSTART:20240310T080000
END:DAYLIGHT
BEGIN:STANDARD
TZOFFSETFROM:-0500
TZOFFSETTO:-0600
TZNAME:CST
DTSTART:20241103T070000
END:STANDARD
END:VTIMEZONE
BEGIN:VEVENT
DTSTART;TZID=America/Chicago:20230217T150000
DTEND;TZID=America/Chicago:20230217T170000
DTSTAMP:20260425T111337
CREATED:20230207T201209Z
LAST-MODIFIED:20230207T201209Z
UID:10000145-1676646000-1676653200@lewistontownshipwi.org
SUMMARY:In Person Absentee Voting and Equipment Test
DESCRIPTION:We will be testing the election equipment on Friday\, February 17\, 2023 at 3:00 at the Lewiston School Gym.  This test is open to the public. \nAlso on that afternoon\, you may drop off the absentee ballots that were already mailed to you. You can also vote absentee ballot that day.  That will be available from 3:00 pm to 5:00 pm.  
URL:https://lewistontownshipwi.org/event/in-person-absentee-voting-and-equipment-test/
CATEGORIES:Election
END:VEVENT
BEGIN:VEVENT
DTSTART;TZID=America/Chicago:20230221T070000
DTEND;TZID=America/Chicago:20230221T200000
DTSTAMP:20260425T111337
CREATED:20230116T200033Z
LAST-MODIFIED:20230116T200033Z
UID:10000146-1676962800-1677009600@lewistontownshipwi.org
SUMMARY:2023 Spring Primary Election
DESCRIPTION:The 2023 Spring Primary Election will be held on Tuesday\, February 21\, 2023 from 7:00 am to 8:00 pm at the Lewiston Elementary School; enter through the side gymnasium door.  \nPlan ahead and visit Myvote.wi.gov for specific information about the candidates when the election draws near. Also\, you can register to vote and update your address if needed. This will save you time at the poll on election day.  \nVOTING BY ABSENTEE BALLOTAny qualified elector who is unable or unwilling to vote at the school on Election Day may submit a request to vote an absentee ballot. A qualified elector is any U.S. citizen who:• will be 18 years of age or older on Election Day.• has resided in the ward or municipality where they wish to vote for at least 28 consecutive days before the election. \nThe elector must also be registered to vote to receive an absentee ballot. Proof of identification must be provided before an absentee ballot may be issued*.  Contact your municipal clerk and request that an application for an absentee ballot be sent to you for the primary or general election or both. You may make written application to your municipal clerk for an absentee ballot in person\, by mail (Clerk\, PO Box 544\, Portage\, WI 53901)\, or at MyVote.wi.gov.Your written request must include:1. your voting address within the Lewiston Township2. the address where the absentee ballot should be sent\, if different from the address above3. your signature4. a copy of your photo identification*The deadline for making application to receive an absentee ballot by mail is 5:00 on February 16. *Voters who are indefinitely confined due to age\, illness\, infirmity\, or disability may not be required to provide photo ID. If this applies to you\, contact the municipal clerk regarding deadlines for requesting and submitting an absentee ballot. \nYou may also request and vote an absentee ballot in person\, or drop off mailed ballots\, at the Lewiston School on Friday\, February 17 from 3-5 pm.
URL:https://lewistontownshipwi.org/event/2023-spring-primary-election/
CATEGORIES:Election
END:VEVENT
END:VCALENDAR