BEGIN:VCALENDAR
VERSION:2.0
PRODID:-//Lewiston Township - ECPv6.15.17.1//NONSGML v1.0//EN
CALSCALE:GREGORIAN
METHOD:PUBLISH
X-ORIGINAL-URL:https://lewistontownshipwi.org
X-WR-CALDESC:Events for Lewiston Township
REFRESH-INTERVAL;VALUE=DURATION:PT1H
X-Robots-Tag:noindex
X-PUBLISHED-TTL:PT1H
BEGIN:VTIMEZONE
TZID:America/Chicago
BEGIN:DAYLIGHT
TZOFFSETFROM:-0600
TZOFFSETTO:-0500
TZNAME:CDT
DTSTART:20220313T080000
END:DAYLIGHT
BEGIN:STANDARD
TZOFFSETFROM:-0500
TZOFFSETTO:-0600
TZNAME:CST
DTSTART:20221106T070000
END:STANDARD
BEGIN:DAYLIGHT
TZOFFSETFROM:-0600
TZOFFSETTO:-0500
TZNAME:CDT
DTSTART:20230312T080000
END:DAYLIGHT
BEGIN:STANDARD
TZOFFSETFROM:-0500
TZOFFSETTO:-0600
TZNAME:CST
DTSTART:20231105T070000
END:STANDARD
BEGIN:DAYLIGHT
TZOFFSETFROM:-0600
TZOFFSETTO:-0500
TZNAME:CDT
DTSTART:20240310T080000
END:DAYLIGHT
BEGIN:STANDARD
TZOFFSETFROM:-0500
TZOFFSETTO:-0600
TZNAME:CST
DTSTART:20241103T070000
END:STANDARD
END:VTIMEZONE
BEGIN:VEVENT
DTSTART;TZID=America/Chicago:20230603T090000
DTEND;TZID=America/Chicago:20230603T110000
DTSTAMP:20260419T185431
CREATED:20230414T224327Z
LAST-MODIFIED:20230414T224327Z
UID:10000199-1685782800-1685790000@lewistontownshipwi.org
SUMMARY:Annual Board Of Review Meeting
DESCRIPTION:
URL:https://lewistontownshipwi.org/event/annual-board-of-review-meeting/
CATEGORIES:Town Board
END:VEVENT
BEGIN:VEVENT
DTSTART;TZID=America/Chicago:20230615T173000
DTEND;TZID=America/Chicago:20230615T220000
DTSTAMP:20260419T185431
CREATED:20230607T002759Z
LAST-MODIFIED:20230607T002759Z
UID:10000152-1686850200-1686866400@lewistontownshipwi.org
SUMMARY:Town Board Meeting
DESCRIPTION:Bids for upcoming Road work and Liquor License approval
URL:https://lewistontownshipwi.org/event/town-board-meeting-11/
CATEGORIES:Town Board
END:VEVENT
END:VCALENDAR