BEGIN:VCALENDAR
VERSION:2.0
PRODID:-//Lewiston Township - ECPv6.15.17.1//NONSGML v1.0//EN
CALSCALE:GREGORIAN
METHOD:PUBLISH
X-ORIGINAL-URL:https://lewistontownshipwi.org
X-WR-CALDESC:Events for Lewiston Township
REFRESH-INTERVAL;VALUE=DURATION:PT1H
X-Robots-Tag:noindex
X-PUBLISHED-TTL:PT1H
BEGIN:VTIMEZONE
TZID:America/Chicago
BEGIN:DAYLIGHT
TZOFFSETFROM:-0600
TZOFFSETTO:-0500
TZNAME:CDT
DTSTART:20240310T080000
END:DAYLIGHT
BEGIN:STANDARD
TZOFFSETFROM:-0500
TZOFFSETTO:-0600
TZNAME:CST
DTSTART:20241103T070000
END:STANDARD
BEGIN:DAYLIGHT
TZOFFSETFROM:-0600
TZOFFSETTO:-0500
TZNAME:CDT
DTSTART:20250309T080000
END:DAYLIGHT
BEGIN:STANDARD
TZOFFSETFROM:-0500
TZOFFSETTO:-0600
TZNAME:CST
DTSTART:20251102T070000
END:STANDARD
BEGIN:DAYLIGHT
TZOFFSETFROM:-0600
TZOFFSETTO:-0500
TZNAME:CDT
DTSTART:20260308T080000
END:DAYLIGHT
BEGIN:STANDARD
TZOFFSETFROM:-0500
TZOFFSETTO:-0600
TZNAME:CST
DTSTART:20261101T070000
END:STANDARD
END:VTIMEZONE
BEGIN:VEVENT
DTSTART;TZID=America/Chicago:20250906T210000
DTEND;TZID=America/Chicago:20250906T220000
DTSTAMP:20260424T064249
CREATED:20250702T010045Z
LAST-MODIFIED:20250702T010045Z
UID:10000568-1757192400-1757196000@lewistontownshipwi.org
SUMMARY:Lewiston Township Garbage and Recycle Center
DESCRIPTION:
URL:https://lewistontownshipwi.org/event/lewiston-township-garbage-and-recycle-center/2025-09-06/
CATEGORIES:Garbage & Recycling
END:VEVENT
BEGIN:VEVENT
DTSTART;TZID=America/Chicago:20250913T210000
DTEND;TZID=America/Chicago:20250913T220000
DTSTAMP:20260424T064249
CREATED:20250702T010045Z
LAST-MODIFIED:20250702T010045Z
UID:10000569-1757797200-1757800800@lewistontownshipwi.org
SUMMARY:Lewiston Township Garbage and Recycle Center
DESCRIPTION:
URL:https://lewistontownshipwi.org/event/lewiston-township-garbage-and-recycle-center/2025-09-13/
CATEGORIES:Garbage & Recycling
END:VEVENT
BEGIN:VEVENT
DTSTART;TZID=America/Chicago:20250918T183000
DTEND;TZID=America/Chicago:20250918T183000
DTSTAMP:20260424T064249
CREATED:20250815T154025Z
LAST-MODIFIED:20250815T154025Z
UID:10000597-1758220200-1758220200@lewistontownshipwi.org
SUMMARY:Town Board Meeting
DESCRIPTION:
URL:https://lewistontownshipwi.org/event/town-board-meeting-19/
CATEGORIES:Town Board
END:VEVENT
BEGIN:VEVENT
DTSTART;TZID=America/Chicago:20250920T210000
DTEND;TZID=America/Chicago:20250920T220000
DTSTAMP:20260424T064249
CREATED:20250702T010045Z
LAST-MODIFIED:20250702T010045Z
UID:10000570-1758402000-1758405600@lewistontownshipwi.org
SUMMARY:Lewiston Township Garbage and Recycle Center
DESCRIPTION:
URL:https://lewistontownshipwi.org/event/lewiston-township-garbage-and-recycle-center/2025-09-20/
CATEGORIES:Garbage & Recycling
END:VEVENT
BEGIN:VEVENT
DTSTART;TZID=America/Chicago:20250927T210000
DTEND;TZID=America/Chicago:20250927T220000
DTSTAMP:20260424T064249
CREATED:20250702T010045Z
LAST-MODIFIED:20250702T010045Z
UID:10000571-1759006800-1759010400@lewistontownshipwi.org
SUMMARY:Lewiston Township Garbage and Recycle Center
DESCRIPTION:
URL:https://lewistontownshipwi.org/event/lewiston-township-garbage-and-recycle-center/2025-09-27/
CATEGORIES:Garbage & Recycling
END:VEVENT
END:VCALENDAR