BEGIN:VCALENDAR
VERSION:2.0
PRODID:-//Lewiston Township - ECPv6.15.17.1//NONSGML v1.0//EN
CALSCALE:GREGORIAN
METHOD:PUBLISH
X-WR-CALNAME:Lewiston Township
X-ORIGINAL-URL:https://lewistontownshipwi.org
X-WR-CALDESC:Events for Lewiston Township
REFRESH-INTERVAL;VALUE=DURATION:PT1H
X-Robots-Tag:noindex
X-PUBLISHED-TTL:PT1H
BEGIN:VTIMEZONE
TZID:America/Chicago
BEGIN:DAYLIGHT
TZOFFSETFROM:-0600
TZOFFSETTO:-0500
TZNAME:CDT
DTSTART:20240310T080000
END:DAYLIGHT
BEGIN:STANDARD
TZOFFSETFROM:-0500
TZOFFSETTO:-0600
TZNAME:CST
DTSTART:20241103T070000
END:STANDARD
BEGIN:DAYLIGHT
TZOFFSETFROM:-0600
TZOFFSETTO:-0500
TZNAME:CDT
DTSTART:20250309T080000
END:DAYLIGHT
BEGIN:STANDARD
TZOFFSETFROM:-0500
TZOFFSETTO:-0600
TZNAME:CST
DTSTART:20251102T070000
END:STANDARD
BEGIN:DAYLIGHT
TZOFFSETFROM:-0600
TZOFFSETTO:-0500
TZNAME:CDT
DTSTART:20260308T080000
END:DAYLIGHT
BEGIN:STANDARD
TZOFFSETFROM:-0500
TZOFFSETTO:-0600
TZNAME:CST
DTSTART:20261101T070000
END:STANDARD
END:VTIMEZONE
BEGIN:VEVENT
DTSTART;TZID=America/Chicago:20251206T210000
DTEND;TZID=America/Chicago:20251206T220000
DTSTAMP:20260422T053806
CREATED:20250702T010045Z
LAST-MODIFIED:20250702T010045Z
UID:10000581-1765054800-1765058400@lewistontownshipwi.org
SUMMARY:Lewiston Township Garbage and Recycle Center
DESCRIPTION:
URL:https://lewistontownshipwi.org/event/lewiston-township-garbage-and-recycle-center/2025-12-06/
CATEGORIES:Garbage & Recycling
END:VEVENT
BEGIN:VEVENT
DTSTART;TZID=America/Chicago:20251211T183000
DTEND;TZID=America/Chicago:20251211T210000
DTSTAMP:20260422T053806
CREATED:20251206T190453Z
LAST-MODIFIED:20251206T190453Z
UID:10000619-1765477800-1765486800@lewistontownshipwi.org
SUMMARY:Town Board Meeting
DESCRIPTION:
URL:https://lewistontownshipwi.org/event/town-board-meeting-22/
END:VEVENT
BEGIN:VEVENT
DTSTART;TZID=America/Chicago:20251213T210000
DTEND;TZID=America/Chicago:20251213T220000
DTSTAMP:20260422T053806
CREATED:20250702T010045Z
LAST-MODIFIED:20250702T010045Z
UID:10000582-1765659600-1765663200@lewistontownshipwi.org
SUMMARY:Lewiston Township Garbage and Recycle Center
DESCRIPTION:
URL:https://lewistontownshipwi.org/event/lewiston-township-garbage-and-recycle-center/2025-12-13/
CATEGORIES:Garbage & Recycling
END:VEVENT
BEGIN:VEVENT
DTSTART;TZID=America/Chicago:20251220T210000
DTEND;TZID=America/Chicago:20251220T220000
DTSTAMP:20260422T053806
CREATED:20250702T010045Z
LAST-MODIFIED:20250702T010045Z
UID:10000583-1766264400-1766268000@lewistontownshipwi.org
SUMMARY:Lewiston Township Garbage and Recycle Center
DESCRIPTION:
URL:https://lewistontownshipwi.org/event/lewiston-township-garbage-and-recycle-center/2025-12-20/
CATEGORIES:Garbage & Recycling
END:VEVENT
BEGIN:VEVENT
DTSTART;TZID=America/Chicago:20251227T210000
DTEND;TZID=America/Chicago:20251227T220000
DTSTAMP:20260422T053806
CREATED:20250702T010045Z
LAST-MODIFIED:20250702T010045Z
UID:10000584-1766869200-1766872800@lewistontownshipwi.org
SUMMARY:Lewiston Township Garbage and Recycle Center
DESCRIPTION:
URL:https://lewistontownshipwi.org/event/lewiston-township-garbage-and-recycle-center/2025-12-27/
CATEGORIES:Garbage & Recycling
END:VEVENT
END:VCALENDAR